Package: scmeth Version: 1.29.1 Command: rm -rf scmeth.buildbin-libdir && mkdir scmeth.buildbin-libdir && /Users/biocbuild/BBS/utils/build-universal.sh scmeth_1.29.1.tar.gz /Library/Frameworks/R.framework/Resources/bin/R scmeth.buildbin-libdir StartedAt: 2025-10-07 02:33:21 -0400 (Tue, 07 Oct 2025) EndedAt: 2025-10-07 02:34:29 -0400 (Tue, 07 Oct 2025) EllapsedTime: 67.1 seconds RetCode: 0 Status: OK PackageFile: scmeth_1.29.1.tgz PackageFileSize: 823.7 KiB