Package: scuttle Version: 1.19.0 Command: rm -rf scuttle.buildbin-libdir && mkdir scuttle.buildbin-libdir && /Users/biocbuild/BBS/utils/build-universal.sh scuttle_1.19.0.tar.gz /Library/Frameworks/R.framework/Resources/bin/R scuttle.buildbin-libdir StartedAt: 2025-07-12 01:18:59 -0400 (Sat, 12 Jul 2025) EndedAt: 2025-07-12 01:20:26 -0400 (Sat, 12 Jul 2025) EllapsedTime: 87.7 seconds RetCode: 0 Status: OK PackageFile: scuttle_1.19.0.tgz PackageFileSize: 1.284 MiB