Package: scuttle Version: 1.19.0 Command: /Library/Frameworks/R.framework/Resources/bin/R CMD build --keep-empty-dirs --no-resave-data scuttle StartedAt: 2025-07-11 18:27:01 -0400 (Fri, 11 Jul 2025) EndedAt: 2025-07-11 18:29:48 -0400 (Fri, 11 Jul 2025) EllapsedTime: 167.5 seconds RetCode: 0 Status: OK PackageFile: scuttle_1.19.0.tar.gz PackageFileSize: 1006 KiB