Package: scuttle Version: 1.19.0 Command: /Library/Frameworks/R.framework/Resources/bin/R CMD INSTALL scuttle StartedAt: 2025-07-11 15:21:39 -0400 (Fri, 11 Jul 2025) EndedAt: 2025-07-11 15:22:59 -0400 (Fri, 11 Jul 2025) EllapsedTime: 80.2 seconds RetCode: 0 Status: OK