Package: scuttle Version: 1.21.0 Command: /home/biocbuild/bbs-3.23-bioc/R/bin/R CMD build --keep-empty-dirs --no-resave-data scuttle StartedAt: 2025-11-04 19:53:15 -0500 (Tue, 04 Nov 2025) EndedAt: 2025-11-04 19:55:55 -0500 (Tue, 04 Nov 2025) EllapsedTime: 160.2 seconds RetCode: 0 Status: OK PackageFile: scuttle_1.21.0.tar.gz PackageFileSize: 1007 KiB