Package: scuttle Version: 1.21.0 Command: /home/biocbuild/bbs-3.23-bioc/R/bin/R CMD INSTALL scuttle StartedAt: 2025-11-04 15:17:47 -0500 (Tue, 04 Nov 2025) EndedAt: 2025-11-04 15:18:55 -0500 (Tue, 04 Nov 2025) EllapsedTime: 68.1 seconds RetCode: 0 Status: OK