Package: segmentSeq Version: 2.45.0 Command: /home/biocbuild/bbs-3.23-bioc/R/bin/R CMD build --keep-empty-dirs --no-resave-data segmentSeq StartedAt: 2025-11-06 19:53:44 -0500 (Thu, 06 Nov 2025) EndedAt: 2025-11-06 19:56:11 -0500 (Thu, 06 Nov 2025) EllapsedTime: 147.1 seconds RetCode: 0 Status: OK PackageFile: segmentSeq_2.45.0.tar.gz PackageFileSize: 3.044 MiB