Package: segmentSeq Version: 2.43.0 Command: /home/biocbuild/bbs-3.22-bioc/R/bin/R CMD build --keep-empty-dirs --no-resave-data --md5 segmentSeq StartedAt: 2025-07-15 19:04:52 -0400 (Tue, 15 Jul 2025) EndedAt: 2025-07-15 19:07:21 -0400 (Tue, 15 Jul 2025) EllapsedTime: 149.2 seconds RetCode: 0 Status: OK PackageFile: segmentSeq_2.43.0.tar.gz PackageFileSize: 3.046 MiB