Package: segmentSeq Version: 2.43.0 Command: /home/biocbuild/bbs-3.22-bioc/R/bin/R CMD INSTALL segmentSeq StartedAt: 2025-07-15 15:47:22 -0400 (Tue, 15 Jul 2025) EndedAt: 2025-07-15 15:48:00 -0400 (Tue, 15 Jul 2025) EllapsedTime: 37.3 seconds RetCode: 0 Status: OK