Package: segmenter Version: 1.17.0 Command: rm -rf segmenter.buildbin-libdir && mkdir segmenter.buildbin-libdir && /Users/biocbuild/BBS/utils/build-universal.sh segmenter_1.17.0.tar.gz /Library/Frameworks/R.framework/Resources/bin/R segmenter.buildbin-libdir StartedAt: 2025-11-13 23:56:14 -0500 (Thu, 13 Nov 2025) EndedAt: 2025-11-13 23:56:36 -0500 (Thu, 13 Nov 2025) EllapsedTime: 22.4 seconds RetCode: 0 Status: OK PackageFile: segmenter_1.17.0.tgz PackageFileSize: 4.376 MiB