Package: segmenter Version: 1.17.0 Command: /Library/Frameworks/R.framework/Resources/bin/R CMD build --keep-empty-dirs --no-resave-data segmenter StartedAt: 2025-11-14 17:38:03 -0500 (Fri, 14 Nov 2025) EndedAt: 2025-11-14 17:41:04 -0500 (Fri, 14 Nov 2025) EllapsedTime: 181.1 seconds RetCode: 0 Status: OK PackageFile: segmenter_1.17.0.tar.gz PackageFileSize: 3.995 MiB