Package: segmenter Version: 1.17.0 Command: /Library/Frameworks/R.framework/Resources/bin/R CMD INSTALL segmenter StartedAt: 2025-11-14 15:31:48 -0500 (Fri, 14 Nov 2025) EndedAt: 2025-11-14 15:32:06 -0500 (Fri, 14 Nov 2025) EllapsedTime: 18.4 seconds RetCode: 0 Status: OK