Package: segmenter Version: 1.17.0 Command: /Library/Frameworks/R.framework/Resources/bin/R CMD build --keep-empty-dirs --no-resave-data segmenter StartedAt: 2025-11-23 18:45:34 -0500 (Sun, 23 Nov 2025) EndedAt: 2025-11-23 18:53:02 -0500 (Sun, 23 Nov 2025) EllapsedTime: 448.0 seconds RetCode: 0 Status: OK PackageFile: segmenter_1.17.0.tar.gz PackageFileSize: 3.995 MiB