Package: segmenter Version: 1.17.0 Command: /Library/Frameworks/R.framework/Resources/bin/R CMD INSTALL segmenter StartedAt: 2025-11-23 16:00:26 -0500 (Sun, 23 Nov 2025) EndedAt: 2025-11-23 16:01:23 -0500 (Sun, 23 Nov 2025) EllapsedTime: 56.3 seconds RetCode: 0 Status: OK