Package: segmenter Version: 1.17.0 Command: /home/biocbuild/bbs-3.23-bioc/R/bin/R CMD build --keep-empty-dirs --no-resave-data segmenter StartedAt: 2025-11-23 19:59:35 -0500 (Sun, 23 Nov 2025) EndedAt: 2025-11-23 20:06:38 -0500 (Sun, 23 Nov 2025) EllapsedTime: 422.5 seconds RetCode: 0 Status: OK PackageFile: segmenter_1.17.0.tar.gz PackageFileSize: 3.983 MiB