Package: segmenter Version: 1.17.0 Command: /home/biocbuild/bbs-3.23-bioc/R/bin/R CMD INSTALL segmenter StartedAt: 2025-11-23 16:00:57 -0500 (Sun, 23 Nov 2025) EndedAt: 2025-11-23 16:01:43 -0500 (Sun, 23 Nov 2025) EllapsedTime: 45.6 seconds RetCode: 0 Status: OK