Package: seqPattern Version: 1.43.0 Command: /Library/Frameworks/R.framework/Resources/bin/R CMD INSTALL seqPattern StartedAt: 2025-11-25 15:11:20 -0500 (Tue, 25 Nov 2025) EndedAt: 2025-11-25 15:11:25 -0500 (Tue, 25 Nov 2025) EllapsedTime: 4.6 seconds RetCode: 0 Status: OK