Package: shinyDSP Version: 1.1.2 Command: /home/biocbuild/bbs-3.22-bioc/R/bin/R CMD build --keep-empty-dirs --no-resave-data --md5 shinyDSP StartedAt: 2025-10-03 20:02:30 -0400 (Fri, 03 Oct 2025) EndedAt: 2025-10-03 20:07:52 -0400 (Fri, 03 Oct 2025) EllapsedTime: 322.4 seconds RetCode: 0 Status: OK PackageFile: shinyDSP_1.1.2.tar.gz PackageFileSize: 2.683 MiB