Package: shinybiocloader Version: 1.1.0 Command: /Library/Frameworks/R.framework/Resources/bin/R CMD INSTALL shinybiocloader StartedAt: 2025-11-21 15:04:44 -0500 (Fri, 21 Nov 2025) EndedAt: 2025-11-21 15:05:00 -0500 (Fri, 21 Nov 2025) EllapsedTime: 15.6 seconds RetCode: 0 Status: OK