Package: shinybiocloader Version: 1.1.0 Command: /Library/Frameworks/R.framework/Resources/bin/R CMD build --keep-empty-dirs --no-resave-data shinybiocloader StartedAt: 2025-11-21 18:42:44 -0500 (Fri, 21 Nov 2025) EndedAt: 2025-11-21 18:42:57 -0500 (Fri, 21 Nov 2025) EllapsedTime: 12.6 seconds RetCode: 0 Status: OK PackageFile: shinybiocloader_1.1.0.tar.gz PackageFileSize: 28.82 KiB