Package: shinybiocloader Version: 1.1.0 Command: /home/biocbuild/bbs-3.23-bioc/R/bin/R CMD INSTALL shinybiocloader StartedAt: 2025-11-13 15:08:00 -0500 (Thu, 13 Nov 2025) EndedAt: 2025-11-13 15:08:30 -0500 (Thu, 13 Nov 2025) EllapsedTime: 29.9 seconds RetCode: 0 Status: OK