| Back to Build/check report for BioC 3.23: simplified long |
|
This page was generated on 2025-11-01 11:33 -0400 (Sat, 01 Nov 2025).
| Hostname | OS | Arch (*) | R version | Installed pkgs |
|---|---|---|---|---|
| nebbiolo1 | Linux (Ubuntu 24.04.3 LTS) | x86_64 | R Under development (unstable) (2025-10-20 r88955) -- "Unsuffered Consequences" | 4774 |
| Click on any hostname to see more info about the system (e.g. compilers) (*) as reported by 'uname -p', except on Windows and Mac OS X | ||||
| Package 1993/2321 | Hostname | OS / Arch | INSTALL | BUILD | CHECK | BUILD BIN | ||||||||
| simplifyEnrichment 2.5.0 (landing page) Zuguang Gu
| nebbiolo1 | Linux (Ubuntu 24.04.3 LTS) / x86_64 | OK | OK | OK | |||||||||
|
To the developers/maintainers of the simplifyEnrichment package: - Allow up to 24 hours (and sometimes 48 hours) for your latest push to git@git.bioconductor.org:packages/simplifyEnrichment.git to reflect on this report. See Troubleshooting Build Report for more information. - Use the following Renviron settings to reproduce errors and warnings. - If 'R CMD check' started to fail recently on the Linux builder(s) over a missing dependency, add the missing dependency to 'Suggests:' in your DESCRIPTION file. See Renviron.bioc for more information. |
| Package: simplifyEnrichment |
| Version: 2.5.0 |
| Command: /home/biocbuild/bbs-3.23-bioc/R/bin/R CMD build --keep-empty-dirs --no-resave-data simplifyEnrichment |
| StartedAt: 2025-10-31 20:13:47 -0400 (Fri, 31 Oct 2025) |
| EndedAt: 2025-10-31 20:14:07 -0400 (Fri, 31 Oct 2025) |
| EllapsedTime: 19.0 seconds |
| RetCode: 0 |
| Status: OK |
| PackageFile: simplifyEnrichment_2.5.0.tar.gz |
| PackageFileSize: 1.025 MiB |
##############################################################################
##############################################################################
###
### Running command:
###
### /home/biocbuild/bbs-3.23-bioc/R/bin/R CMD build --keep-empty-dirs --no-resave-data simplifyEnrichment
###
##############################################################################
##############################################################################
* checking for file ‘simplifyEnrichment/DESCRIPTION’ ... OK
* preparing ‘simplifyEnrichment’:
* checking DESCRIPTION meta-information ... OK
* installing the package (it is needed to build vignettes)
* creating vignettes ... OK
* checking for LF line-endings in source and make files and shell scripts
* checking for empty or unneeded directories
NB: this package now depends on R (>= 4.1.0)
WARNING: Added dependency on R >= 4.1.0 because package code uses the
pipe |> or function shorthand \(...) syntax added in R 4.1.0.
File(s) using such syntax:
‘count_words.Rd’
* building ‘simplifyEnrichment_2.5.0.tar.gz’