Back to Multiple platform build/check report for BioC 3.23:   simplified   long
ABCDEFGHIJKLMNOPQR[S]TUVWXYZ

This page was generated on 2025-11-25 11:39 -0500 (Tue, 25 Nov 2025).

HostnameOSArch (*)R versionInstalled pkgs
nebbiolo1Linux (Ubuntu 24.04.3 LTS)x86_64R Under development (unstable) (2025-10-20 r88955) -- "Unsuffered Consequences" 4830
lconwaymacOS 12.7.6 Montereyx86_64R Under development (unstable) (2025-10-21 r88958) -- "Unsuffered Consequences" 4606
kjohnson3macOS 13.7.7 Venturaarm64R Under development (unstable) (2025-11-04 r88984) -- "Unsuffered Consequences" 4569
Click on any hostname to see more info about the system (e.g. compilers)      (*) as reported by 'uname -p', except on Windows and Mac OS X

Package 2042/2328HostnameOS / ArchINSTALLBUILDCHECKBUILD BIN
sparrow 1.17.0  (landing page)
Steve Lianoglou
Snapshot Date: 2025-11-24 13:40 -0500 (Mon, 24 Nov 2025)
git_url: https://git.bioconductor.org/packages/sparrow
git_branch: devel
git_last_commit: 03b668b
git_last_commit_date: 2025-10-29 11:12:41 -0500 (Wed, 29 Oct 2025)
nebbiolo1Linux (Ubuntu 24.04.3 LTS) / x86_64  OK    OK    OK  UNNEEDED, same version is already published
lconwaymacOS 12.7.6 Monterey / x86_64  OK    OK    OK    OK  UNNEEDED, same version is already published
kjohnson3macOS 13.7.7 Ventura / arm64  OK    OK    OK    OK  UNNEEDED, same version is already published


CHECK results for sparrow on lconway

To the developers/maintainers of the sparrow package:
- Allow up to 24 hours (and sometimes 48 hours) for your latest push to git@git.bioconductor.org:packages/sparrow.git to reflect on this report. See Troubleshooting Build Report for more information.
- Use the following Renviron settings to reproduce errors and warnings.
- If 'R CMD check' started to fail recently on the Linux builder(s) over a missing dependency, add the missing dependency to 'Suggests:' in your DESCRIPTION file. See Renviron.bioc for more information.

raw results


Summary

Package: sparrow
Version: 1.17.0
Command: /Library/Frameworks/R.framework/Resources/bin/R CMD check --install=check:sparrow.install-out.txt --library=/Library/Frameworks/R.framework/Resources/library --no-vignettes --timings sparrow_1.17.0.tar.gz
StartedAt: 2025-11-25 00:18:24 -0500 (Tue, 25 Nov 2025)
EndedAt: 2025-11-25 00:27:43 -0500 (Tue, 25 Nov 2025)
EllapsedTime: 558.9 seconds
RetCode: 0
Status:   OK  
CheckDir: sparrow.Rcheck
Warnings: 0

Command output

##############################################################################
##############################################################################
###
### Running command:
###
###   /Library/Frameworks/R.framework/Resources/bin/R CMD check --install=check:sparrow.install-out.txt --library=/Library/Frameworks/R.framework/Resources/library --no-vignettes --timings sparrow_1.17.0.tar.gz
###
##############################################################################
##############################################################################


* using log directory ‘/Users/biocbuild/bbs-3.23-bioc/meat/sparrow.Rcheck’
* using R Under development (unstable) (2025-10-21 r88958)
* using platform: x86_64-apple-darwin20
* R was compiled by
    Apple clang version 14.0.0 (clang-1400.0.29.202)
    GNU Fortran (GCC) 14.2.0
* running under: macOS Ventura 13.7.8
* using session charset: UTF-8
* using option ‘--no-vignettes’
* checking for file ‘sparrow/DESCRIPTION’ ... OK
* checking extension type ... Package
* this is package ‘sparrow’ version ‘1.17.0’
* package encoding: UTF-8
* checking package namespace information ... OK
* checking package dependencies ... OK
* checking if this is a source package ... OK
* checking if there is a namespace ... OK
* checking for hidden files and directories ... OK
* checking for portable file names ... OK
* checking for sufficient/correct file permissions ... OK
* checking whether package ‘sparrow’ can be installed ... OK
* checking installed package size ... OK
* checking package directory ... OK
* checking ‘build’ directory ... OK
* checking DESCRIPTION meta-information ... NOTE
License stub is invalid DCF.
* checking top-level files ... OK
* checking for left-over files ... OK
* checking index information ... OK
* checking package subdirectories ... OK
* checking code files for non-ASCII characters ... OK
* checking R files for syntax errors ... OK
* checking whether the package can be loaded ... OK
* checking whether the package can be loaded with stated dependencies ... OK
* checking whether the package can be unloaded cleanly ... OK
* checking whether the namespace can be loaded with stated dependencies ... OK
* checking whether the namespace can be unloaded cleanly ... OK
* checking whether startup messages can be suppressed ... OK
* checking dependencies in R code ... OK
* checking S3 generic/method consistency ... OK
* checking replacement functions ... OK
* checking foreign function calls ... OK
* checking R code for possible problems ... NOTE
.map_ids_orthogene: no visible binding for global variable ‘gspecies’
.map_ids_orthogene: no visible binding for global variable ‘species’
.map_ids_orthogene: no visible binding for global variable ‘input_ensg’
.map_ids_orthogene: no visible binding for global variable
  ‘ortholog_ensg’
.map_ids_orthogene: no visible binding for global variable
  ‘ortholog_gene’
.map_ids_orthogene: no visible binding for global variable ‘symbol’
.map_ids_orthogene: no visible binding for global variable ‘input_id’
.map_ids_orthogene: no visible global function definition for
  ‘starts_with’
.map_ids_orthogene: no visible global function definition for
  ‘last_col’
.map_ids_orthogene: no visible binding for global variable ‘rm_na’
geneSetsStats: no visible binding for global variable ‘direction’
getMSigGeneSetDb: no visible binding for global variable ‘ncbi_gene’
getMSigGeneSetDb: no visible binding for global variable ‘db_species’
getMSigGeneSetDb: no visible binding for global variable
  ‘msigdb_collection’
getMSigGeneSetDb: no visible binding for global variable ‘gene_symbol’
getMSigGeneSetDb: no visible binding for global variable
  ‘gs_collection_name’
getMSigGeneSetDb: no visible binding for global variable ‘gs_url’
convertIdentifiers,GeneSetDb: no visible binding for global variable
  ‘.convert_ids_with_babelgene’
convertIdentifiers,GeneSetDb: no visible global function definition for
  ‘.map_ids_babelgene’
Undefined global functions or variables:
  .convert_ids_with_babelgene .map_ids_babelgene db_species direction
  gene_symbol gs_collection_name gs_url gspecies input_ensg input_id
  last_col msigdb_collection ncbi_gene ortholog_ensg ortholog_gene
  rm_na species starts_with symbol
* checking Rd files ... OK
* checking Rd metadata ... OK
* checking Rd cross-references ... NOTE
Non-topic package-anchored link(s) in Rd file 'GeneSetDb-class.Rd':
  ‘[GSEABase:GeneIdentifierType-constructors]{GSEABase::EntrezIdentifier()}’

Non-topic package-anchored link(s) in Rd file 'calculateIndividualLogFC.Rd':
  ‘[limma:ebayes]{limma::eBayes()}’

Non-topic package-anchored link(s) in Rd file 'collectionMetadata.Rd':
  ‘[GSEABase:GeneIdentifierType-constructors]{GSEABase::EntrezIdentifier()}’

Non-topic package-anchored link(s) in Rd file 'seas.Rd':
  ‘[limma:toptable]{limma::topTable()}’
  ‘[limma:dupcor]{limma::duplicateCorrelation()}’

See section 'Cross-references' in the 'Writing R Extensions' manual.

Found the following Rd file(s) with Rd \link{} targets missing package
anchors:
  seas.Rd: BiocParallel
Please provide package anchors for all Rd \link{} targets not in the
package itself and the base packages.
* checking for missing documentation entries ... OK
* checking for code/documentation mismatches ... OK
* checking Rd \usage sections ... OK
* checking Rd contents ... OK
* checking for unstated dependencies in examples ... OK
* checking line endings in Makefiles ... OK
* checking for GNU extensions in Makefiles ... OK
* checking include directives in Makefiles ... OK
* checking files in ‘vignettes’ ... OK
* checking examples ... OK
Examples with CPU (user + system) or elapsed time > 5s
                    user system elapsed
goseq              8.181  0.553   8.812
scoreSingleSamples 6.570  0.338   6.968
geneSetsStats      5.498  0.129   5.687
seas               4.842  0.168   5.054
* checking for unstated dependencies in ‘tests’ ... OK
* checking tests ...
  Running ‘testthat.R’
 OK
* checking for unstated dependencies in vignettes ... OK
* checking package vignettes ... OK
* checking running R code from vignettes ... SKIPPED
* checking re-building of vignette outputs ... SKIPPED
* checking PDF version of manual ... OK
* DONE

Status: 3 NOTEs
See
  ‘/Users/biocbuild/bbs-3.23-bioc/meat/sparrow.Rcheck/00check.log’
for details.


Installation output

sparrow.Rcheck/00install.out

##############################################################################
##############################################################################
###
### Running command:
###
###   /Library/Frameworks/R.framework/Resources/bin/R CMD INSTALL sparrow
###
##############################################################################
##############################################################################


* installing to library ‘/Library/Frameworks/R.framework/Versions/4.6-x86_64/Resources/library’
* installing *source* package ‘sparrow’ ...
** this is package ‘sparrow’ version ‘1.17.0’
** using staged installation
** R
** inst
** byte-compile and prepare package for lazy loading
** help
*** installing help indices
*** copying figures
** building package indices
** installing vignettes
** testing if installed package can be loaded from temporary location
** testing if installed package can be loaded from final location
** testing if installed package keeps a record of temporary installation path
* DONE (sparrow)

Tests output

sparrow.Rcheck/tests/testthat.Rout


R Under development (unstable) (2025-10-21 r88958) -- "Unsuffered Consequences"
Copyright (C) 2025 The R Foundation for Statistical Computing
Platform: x86_64-apple-darwin20

R is free software and comes with ABSOLUTELY NO WARRANTY.
You are welcome to redistribute it under certain conditions.
Type 'license()' or 'licence()' for distribution details.

R is a collaborative project with many contributors.
Type 'contributors()' for more information and
'citation()' on how to cite R or R packages in publications.

Type 'demo()' for some demos, 'help()' for on-line help, or
'help.start()' for an HTML browser interface to help.
Type 'q()' to quit R.

> library("sparrow")
> library("testthat")
> library("data.table")
> library("dplyr")

Attaching package: 'dplyr'

The following objects are masked from 'package:data.table':

    between, first, last

The following object is masked from 'package:sparrow':

    combine

The following objects are masked from 'package:stats':

    filter, lag

The following objects are masked from 'package:base':

    intersect, setdiff, setequal, union

> 
> test_check("sparrow")

Attaching package: 'magrittr'

The following objects are masked from 'package:testthat':

    equals, is_less_than, not

[ FAIL 0 | WARN 0 | SKIP 8 | PASS 1471 ]

══ Skipped tests (8) ═══════════════════════════════════════════════════════════
• empty test (3): 'test-MultiGSEAResult.R:3:1', ,
• {misgdbdf} is not installed (5): 'test-get-msigdb.R:6:3',
  'test-get-msigdb.R:14:3', 'test-get-msigdb.R:27:3', 'test-get-msigdb.R:65:3',
  'test-get-msigdb.R:99:3'

[ FAIL 0 | WARN 0 | SKIP 8 | PASS 1471 ]
> 
> ## Remove temporary files that were generated
> test.dir <- system.file('tests', package = "sparrow")
> pdfs <- dir(test.dir, "\\.pdf$", full.names=TRUE)
> if (length(pdfs)) {
+   unlink(pdfs)
+ }
> 
> 
> proc.time()
   user  system elapsed 
251.561  12.993 258.659 

Example timings

sparrow.Rcheck/sparrow-Ex.timings

nameusersystemelapsed
GeneSetDb-class0.0820.0060.099
SparrowResult-utilities4.3380.1434.525
addGeneSetMetadata0.0720.0030.075
annotateGeneSetMembership3.4720.1493.660
calculateIndividualLogFC2.3320.0702.423
collectionMetadata0.0700.0030.073
combine-GeneSetDb-GeneSetDb-method0.0860.0040.091
combine-SparrowResult-SparrowResult-method0.1350.0050.141
conform0.4180.0220.446
conversion0.5920.0230.623
convertIdentifiers0.2090.0150.226
corplot0.0890.0050.095
eigenWeightedMean3.5280.1033.663
examples0.3410.0930.450
failWith0.0010.0000.001
featureIdMap1.1760.0231.207
featureIds0.4630.0200.491
geneSet0.0870.0040.093
geneSetCollectionURLfunction0.0670.0020.070
geneSetSummaryByGenes3.1040.1253.255
geneSets0.0610.0020.064
geneSetsStats5.4980.1295.687
getKeggCollection000
getMSigCollection000
getPantherCollection0.0000.0010.000
getReactomeCollection000
goseq8.1810.5538.812
gsdScore0.9770.0601.052
gskey0.0030.0010.003
hasGeneSet0.0580.0020.067
hasGeneSetCollection0.0550.0020.058
incidenceMatrix1.1920.0571.260
iplot1.9360.1512.146
is.active0.4500.0870.545
logFC2.8800.1043.005
mgheatmap000
mgheatmap2000
msg0.0000.0000.001
ora0.2400.0160.260
p.matrix0.1330.0030.136
randomGeneSetDb0.0880.0080.097
renameCollections0.0710.0020.073
renameRows0.4130.0310.447
results0.1120.0040.117
scale_rows0.0040.0000.004
scoreSingleSamples6.5700.3386.968
seas4.8420.1685.054
sparrow_methods0.0030.0020.005
species_info0.0060.0020.009
subset.GeneSetDb0.1060.0110.118
subsetByFeatures0.0810.0020.084
validateInputs0.1410.0110.156
volcanoPlot3.5680.1243.715
volcanoStatsTable0.0640.0010.065
zScore0.7130.0350.752