Package: sparseMatrixStats Version: 1.23.0 Command: /home/biocbuild/bbs-3.23-bioc/R/bin/R CMD build --keep-empty-dirs --no-resave-data sparseMatrixStats StartedAt: 2025-11-05 20:13:10 -0500 (Wed, 05 Nov 2025) EndedAt: 2025-11-05 20:13:43 -0500 (Wed, 05 Nov 2025) EllapsedTime: 33.0 seconds RetCode: 0 Status: OK PackageFile: sparseMatrixStats_1.23.0.tar.gz PackageFileSize: 687.7 KiB