Package: sparseMatrixStats Version: 1.23.0 Command: /home/biocbuild/bbs-3.23-bioc/R/bin/R CMD INSTALL sparseMatrixStats StartedAt: 2025-11-05 15:11:53 -0500 (Wed, 05 Nov 2025) EndedAt: 2025-11-05 15:12:21 -0500 (Wed, 05 Nov 2025) EllapsedTime: 27.9 seconds RetCode: 0 Status: OK