Package: spatialFDA Version: 1.1.21 Command: rm -rf spatialFDA.buildbin-libdir && mkdir spatialFDA.buildbin-libdir && /Users/biocbuild/BBS/utils/build-universal.sh spatialFDA_1.1.21.tar.gz /Library/Frameworks/R.framework/Resources/bin/R spatialFDA.buildbin-libdir StartedAt: 2025-10-22 23:18:30 -0400 (Wed, 22 Oct 2025) EndedAt: 2025-10-22 23:18:45 -0400 (Wed, 22 Oct 2025) EllapsedTime: 15.4 seconds RetCode: 0 Status: OK PackageFile: spatialFDA_1.1.21.tgz PackageFileSize: 6.953 MiB