Package: spatialFDA Version: 1.1.21 Command: /Library/Frameworks/R.framework/Resources/bin/R CMD INSTALL spatialFDA StartedAt: 2025-10-21 15:15:18 -0400 (Tue, 21 Oct 2025) EndedAt: 2025-10-21 15:15:32 -0400 (Tue, 21 Oct 2025) EllapsedTime: 14.0 seconds RetCode: 0 Status: OK