Package: spatialFDA Version: 1.3.1 Command: rm -rf spatialFDA.buildbin-libdir && mkdir spatialFDA.buildbin-libdir && /Users/biocbuild/BBS/utils/build-universal.sh spatialFDA_1.3.1.tar.gz /Library/Frameworks/R.framework/Resources/bin/R spatialFDA.buildbin-libdir StartedAt: 2025-11-18 07:25:49 -0500 (Tue, 18 Nov 2025) EndedAt: 2025-11-18 07:26:41 -0500 (Tue, 18 Nov 2025) EllapsedTime: 52.0 seconds RetCode: 0 Status: OK PackageFile: spatialFDA_1.3.1.tgz PackageFileSize: 6.941 MiB