Package: spatialFDA Version: 1.3.1 Command: /Library/Frameworks/R.framework/Resources/bin/R CMD build --keep-empty-dirs --no-resave-data spatialFDA StartedAt: 2025-11-17 19:05:32 -0500 (Mon, 17 Nov 2025) EndedAt: 2025-11-17 19:12:31 -0500 (Mon, 17 Nov 2025) EllapsedTime: 419.1 seconds RetCode: 0 Status: OK PackageFile: spatialFDA_1.3.1.tar.gz PackageFileSize: 6.859 MiB