Package: spatialFDA Version: 1.3.1 Command: /Library/Frameworks/R.framework/Resources/bin/R CMD INSTALL spatialFDA StartedAt: 2025-11-17 15:24:07 -0500 (Mon, 17 Nov 2025) EndedAt: 2025-11-17 15:24:53 -0500 (Mon, 17 Nov 2025) EllapsedTime: 46.1 seconds RetCode: 0 Status: OK