Package: spatialSimGP Version: 1.5.0 Command: rm -rf spatialSimGP.buildbin-libdir && mkdir spatialSimGP.buildbin-libdir && /Users/biocbuild/BBS/utils/build-universal.sh spatialSimGP_1.5.0.tar.gz /Library/Frameworks/R.framework/Resources/bin/R spatialSimGP.buildbin-libdir StartedAt: 2025-11-19 01:54:24 -0500 (Wed, 19 Nov 2025) EndedAt: 2025-11-19 01:54:58 -0500 (Wed, 19 Nov 2025) EllapsedTime: 34.7 seconds RetCode: 0 Status: OK PackageFile: spatialSimGP_1.5.0.tgz PackageFileSize: 740.2 KiB