Package: spatialSimGP Version: 1.5.0 Command: /Library/Frameworks/R.framework/Resources/bin/R CMD build --keep-empty-dirs --no-resave-data spatialSimGP StartedAt: 2025-11-18 18:47:21 -0500 (Tue, 18 Nov 2025) EndedAt: 2025-11-18 18:48:31 -0500 (Tue, 18 Nov 2025) EllapsedTime: 69.7 seconds RetCode: 0 Status: OK PackageFile: spatialSimGP_1.5.0.tar.gz PackageFileSize: 730.8 KiB