Package: spatialSimGP Version: 1.5.0 Command: /Library/Frameworks/R.framework/Resources/bin/R CMD INSTALL spatialSimGP StartedAt: 2025-11-18 15:33:40 -0500 (Tue, 18 Nov 2025) EndedAt: 2025-11-18 15:34:10 -0500 (Tue, 18 Nov 2025) EllapsedTime: 30.4 seconds RetCode: 0 Status: OK