Package: spatialSimGP Version: 1.3.0 Command: /home/biocbuild/bbs-3.22-bioc/R/bin/R CMD build --keep-empty-dirs --no-resave-data --md5 spatialSimGP StartedAt: 2025-07-24 19:27:00 -0400 (Thu, 24 Jul 2025) EndedAt: 2025-07-24 19:28:03 -0400 (Thu, 24 Jul 2025) EllapsedTime: 63.1 seconds RetCode: 0 Status: OK PackageFile: spatialSimGP_1.3.0.tar.gz PackageFileSize: 694.8 KiB