Package: spkTools Version: 1.67.0 Command: /home/biocbuild/bbs-3.23-bioc/R/bin/R CMD INSTALL spkTools StartedAt: 2025-11-16 15:14:42 -0500 (Sun, 16 Nov 2025) EndedAt: 2025-11-16 15:14:46 -0500 (Sun, 16 Nov 2025) EllapsedTime: 4.5 seconds RetCode: 0 Status: OK