Package: stepNorm Version: 1.81.0 Command: /home/biocbuild/bbs-3.22-bioc/R/bin/R CMD build --keep-empty-dirs --no-resave-data --md5 stepNorm StartedAt: 2025-10-27 20:22:54 -0400 (Mon, 27 Oct 2025) EndedAt: 2025-10-27 20:22:55 -0400 (Mon, 27 Oct 2025) EllapsedTime: 1.0 seconds RetCode: 0 Status: OK PackageFile: stepNorm_1.81.0.tar.gz PackageFileSize: 460.8 KiB