Package: swfdr Version: 1.35.0 Command: /Library/Frameworks/R.framework/Resources/bin/R CMD build --keep-empty-dirs --no-resave-data swfdr StartedAt: 2025-10-12 17:50:55 -0400 (Sun, 12 Oct 2025) EndedAt: 2025-10-12 17:51:15 -0400 (Sun, 12 Oct 2025) EllapsedTime: 20.3 seconds RetCode: 1 Status: ERROR PackageFile: None PackageFileSize: NA