Package: swfdr Version: 1.37.0 Command: /home/biocbuild/bbs-3.23-bioc/R/bin/R CMD INSTALL swfdr StartedAt: 2025-11-14 15:04:53 -0500 (Fri, 14 Nov 2025) EndedAt: 2025-11-14 15:05:17 -0500 (Fri, 14 Nov 2025) EllapsedTime: 24.2 seconds RetCode: 0 Status: OK