Package: swfdr Version: 1.35.0 Command: /home/biocbuild/bbs-3.22-bioc/R/bin/R CMD build --keep-empty-dirs --no-resave-data --md5 swfdr StartedAt: 2025-07-25 21:41:59 -0400 (Fri, 25 Jul 2025) EndedAt: 2025-07-25 21:42:47 -0400 (Fri, 25 Jul 2025) EllapsedTime: 48.0 seconds RetCode: 0 Status: OK PackageFile: swfdr_1.35.0.tar.gz PackageFileSize: 1.202 MiB