Package: swfdr Version: 1.35.0 Command: /home/biocbuild/bbs-3.22-bioc/R/bin/R CMD INSTALL swfdr StartedAt: 2025-07-25 17:17:28 -0400 (Fri, 25 Jul 2025) EndedAt: 2025-07-25 17:17:50 -0400 (Fri, 25 Jul 2025) EllapsedTime: 22.5 seconds RetCode: 0 Status: OK