Package: syntenet Version: 1.11.2 Command: /home/biocbuild/bbs-3.22-bioc/R/bin/R CMD build --keep-empty-dirs --no-resave-data --md5 syntenet StartedAt: 2025-10-20 20:21:44 -0400 (Mon, 20 Oct 2025) EndedAt: 2025-10-20 20:23:03 -0400 (Mon, 20 Oct 2025) EllapsedTime: 79.1 seconds RetCode: 0 Status: OK PackageFile: syntenet_1.11.2.tar.gz PackageFileSize: 3.047 MiB