Package: syntenet Version: 1.11.2 Command: /home/biocbuild/bbs-3.22-bioc/R/bin/R CMD INSTALL syntenet StartedAt: 2025-10-20 15:15:18 -0400 (Mon, 20 Oct 2025) EndedAt: 2025-10-20 15:15:59 -0400 (Mon, 20 Oct 2025) EllapsedTime: 41.0 seconds RetCode: 0 Status: OK