Package: systemPipeR Version: 2.15.2 Command: /home/biocbuild/bbs-3.22-bioc/R/bin/R CMD INSTALL systemPipeR StartedAt: 2025-10-10 16:03:32 -0400 (Fri, 10 Oct 2025) EndedAt: 2025-10-10 16:04:17 -0400 (Fri, 10 Oct 2025) EllapsedTime: 44.3 seconds RetCode: 0 Status: OK