Package: systemPipeTools Version: 1.17.0 Command: /home/biocbuild/bbs-3.22-bioc/R/bin/R CMD build --keep-empty-dirs --no-resave-data --md5 systemPipeTools StartedAt: 2025-07-24 19:35:44 -0400 (Thu, 24 Jul 2025) EndedAt: 2025-07-24 19:36:42 -0400 (Thu, 24 Jul 2025) EllapsedTime: 58.0 seconds RetCode: 0 Status: OK PackageFile: systemPipeTools_1.17.0.tar.gz PackageFileSize: 993.9 KiB