Package: systemPipeTools Version: 1.17.0 Command: /home/biocbuild/bbs-3.22-bioc/R/bin/R CMD INSTALL systemPipeTools StartedAt: 2025-07-24 15:26:54 -0400 (Thu, 24 Jul 2025) EndedAt: 2025-07-24 15:27:19 -0400 (Thu, 24 Jul 2025) EllapsedTime: 24.7 seconds RetCode: 0 Status: OK