Package: tidyCoverage Version: 1.5.0 Command: rm -rf tidyCoverage.buildbin-libdir && mkdir tidyCoverage.buildbin-libdir && /Users/biocbuild/BBS/utils/build-universal.sh tidyCoverage_1.5.0.tar.gz /Library/Frameworks/R.framework/Resources/bin/R tidyCoverage.buildbin-libdir StartedAt: 2025-07-11 22:38:33 -0400 (Fri, 11 Jul 2025) EndedAt: 2025-07-11 22:38:48 -0400 (Fri, 11 Jul 2025) EllapsedTime: 15.3 seconds RetCode: 0 Status: OK PackageFile: tidyCoverage_1.5.0.tgz PackageFileSize: 4.209 MiB