Package: tidyCoverage Version: 1.5.0 Command: /Library/Frameworks/R.framework/Resources/bin/R CMD build --keep-empty-dirs --no-resave-data tidyCoverage StartedAt: 2025-07-11 17:46:08 -0400 (Fri, 11 Jul 2025) EndedAt: 2025-07-11 17:47:23 -0400 (Fri, 11 Jul 2025) EllapsedTime: 74.9 seconds RetCode: 0 Status: OK PackageFile: tidyCoverage_1.5.0.tar.gz PackageFileSize: 3.896 MiB