Package: tidyCoverage Version: 1.5.0 Command: /Library/Frameworks/R.framework/Resources/bin/R CMD INSTALL tidyCoverage StartedAt: 2025-07-11 15:15:34 -0400 (Fri, 11 Jul 2025) EndedAt: 2025-07-11 15:15:48 -0400 (Fri, 11 Jul 2025) EllapsedTime: 14.0 seconds RetCode: 0 Status: OK