Package: tidyCoverage Version: 1.5.0 Command: /home/biocbuild/bbs-3.22-bioc/R/bin/R CMD build --keep-empty-dirs --no-resave-data --md5 tidyCoverage StartedAt: 2025-07-11 19:27:59 -0400 (Fri, 11 Jul 2025) EndedAt: 2025-07-11 19:30:45 -0400 (Fri, 11 Jul 2025) EllapsedTime: 166.2 seconds RetCode: 0 Status: OK PackageFile: tidyCoverage_1.5.0.tar.gz PackageFileSize: 3.735 MiB