Package: tidyCoverage Version: 1.5.0 Command: /home/biocbuild/bbs-3.22-bioc/R/bin/R CMD check --install=check:tidyCoverage.install-out.txt --library=/home/biocbuild/bbs-3.22-bioc/R/site-library --timings tidyCoverage_1.5.0.tar.gz StartedAt: 2025-07-21 03:22:29 -0400 (Mon, 21 Jul 2025) EndedAt: 2025-07-21 03:29:55 -0400 (Mon, 21 Jul 2025) EllapsedTime: 445.4 seconds RetCode: 0 Status: OK CheckDir: tidyCoverage.Rcheck Warnings: 0